BEGIN:VCALENDAR
VERSION:2.0
PRODID:spatie/icalendar-generator
DESCRIPTION:Veranstaltungen von Evangelische Kirche Brück
X-WR-CALDESC:Veranstaltungen von Evangelische Kirche Brück
REFRESH-INTERVAL;VALUE=DURATION:PT1440M
X-PUBLISHED-TTL:PT1440M
BEGIN:VTIMEZONE
TZID:Europe/Berlin
BEGIN:STANDARD
DTSTART:20251026T030000Z
TZOFFSETFROM:+0200
TZOFFSETTO:+0100
END:STANDARD
BEGIN:DAYLIGHT
DTSTART:20260329T020000Z
TZOFFSETFROM:+0100
TZOFFSETTO:+0200
END:DAYLIGHT
BEGIN:STANDARD
DTSTART:20261025T030000Z
TZOFFSETFROM:+0200
TZOFFSETTO:+0100
END:STANDARD
END:VTIMEZONE
BEGIN:VTIMEZONE
TZID:UTC
BEGIN:STANDARD
DTSTART:20250725T114339Z
TZOFFSETFROM:+0000
TZOFFSETTO:+0000
END:STANDARD
END:VTIMEZONE
BEGIN:VEVENT
UID:470-397
DTSTAMP:20260421T114339Z
SUMMARY:Frühlingsfest Amt Brück
LOCATION:
ORGANIZER;CN=Ines Jäger:MAILTO:ines.jaeger@gemeinsam.ekbo.de
DTSTART;TZID=Europe/Berlin:20260425T130000
DTEND;TZID=Europe/Berlin:20260425T180000
X-ALT-DESC;FMTTYPE=TEXT/HTML:Samstag\, 25. April Frühlingsfest Amt Brück 
 13.00 – 18.00 Uhr &amp;nbsp\; Kleine Mitmachaktion unserer Gemeinde
CATEGORIES:General
URL;VALUE=URI:https://kirche-brueck.de/mc-events/fruehlingsfest-amt-brueck/
METHOD:PUBLISH
END:VEVENT
END:VCALENDAR