BEGIN:VCALENDAR
VERSION:2.0
PRODID:spatie/icalendar-generator
DESCRIPTION:Veranstaltungen von Evangelische Kirche Brück
X-WR-CALDESC:Veranstaltungen von Evangelische Kirche Brück
REFRESH-INTERVAL;VALUE=DURATION:PT1440M
X-PUBLISHED-TTL:PT1440M
BEGIN:VTIMEZONE
TZID:Europe/Berlin
BEGIN:STANDARD
DTSTART:20251026T030000Z
TZOFFSETFROM:+0200
TZOFFSETTO:+0100
END:STANDARD
BEGIN:DAYLIGHT
DTSTART:20260329T020000Z
TZOFFSETFROM:+0100
TZOFFSETTO:+0200
END:DAYLIGHT
END:VTIMEZONE
BEGIN:VTIMEZONE
TZID:UTC
BEGIN:STANDARD
DTSTART:20250725T131533Z
TZOFFSETFROM:+0000
TZOFFSETTO:+0000
END:STANDARD
END:VTIMEZONE
BEGIN:VEVENT
UID:442-387
DTSTAMP:20260421T131533Z
SUMMARY:Kirchenchor
LOCATION:Rottstock
ORGANIZER;CN=Ines Jäger:MAILTO:ines.jaeger@gemeinsam.ekbo.de
RRULE:FREQ=WEEKLY;UNTIL=20260701T000000Z
DTSTART;TZID=Europe/Berlin:20260421T183000
DTEND;TZID=Europe/Berlin:20260421T200000
X-ALT-DESC;FMTTYPE=TEXT/HTML:Kirchenchor Im Augenblick ein kleiner Chor fü
 r Anfänger:innen und Fortgeschrittene\; gerne wachsen wir noch J &amp;nbsp\; 
 &amp;nbsp\; Kontakt: Sylke Thermer (0176 310 79 154) Di\, 21. April Di\, 5. Ma
 i Di\, 19. Mai Di\, 2. Juni Di\, 16. Juni Di\, 30. Juni &amp;nbsp\; &amp;nbsp\; 14
 -tägig dienstags &amp;nbsp\; 18.30-20.00 Uhr &amp;nbsp\; Ort: Gemeindehaus Rottst
 ock &amp;nbsp\; &amp;nbsp\;
CATEGORIES:General
URL;VALUE=URI:https://kirche-brueck.de/mc-events/kirchenchor/?mc_id=442
METHOD:PUBLISH
END:VEVENT
END:VCALENDAR