BEGIN:VCALENDAR
VERSION:2.0
PRODID:spatie/icalendar-generator
DESCRIPTION:Veranstaltungen von Evangelische Kirche Brück
X-WR-CALDESC:Veranstaltungen von Evangelische Kirche Brück
REFRESH-INTERVAL;VALUE=DURATION:PT1440M
X-PUBLISHED-TTL:PT1440M
BEGIN:VTIMEZONE
TZID:Europe/Berlin
BEGIN:STANDARD
DTSTART:20251026T030000Z
TZOFFSETFROM:+0200
TZOFFSETTO:+0100
END:STANDARD
BEGIN:DAYLIGHT
DTSTART:20260329T020000Z
TZOFFSETFROM:+0100
TZOFFSETTO:+0200
END:DAYLIGHT
BEGIN:STANDARD
DTSTART:20261025T030000Z
TZOFFSETFROM:+0200
TZOFFSETTO:+0100
END:STANDARD
END:VTIMEZONE
BEGIN:VTIMEZONE
TZID:UTC
BEGIN:STANDARD
DTSTART:20250725T132857Z
TZOFFSETFROM:+0000
TZOFFSETTO:+0000
END:STANDARD
END:VTIMEZONE
BEGIN:VEVENT
UID:429-386
DTSTAMP:20260421T132857Z
SUMMARY:Hauskreis
LOCATION:
ORGANIZER;CN=Ines Jäger:MAILTO:ines.jaeger@gemeinsam.ekbo.de
RRULE:FREQ=WEEKLY;UNTIL=20260722T000000Z
DTSTART;TZID=Europe/Berlin:20260428T193000
DTEND;TZID=Europe/Berlin:20260428T203000
X-ALT-DESC;FMTTYPE=TEXT/HTML:Hauskreis Bibelgespräch bei einem Gemeindegli
 ed zu Hause &amp;nbsp\; Kontakt: Bärbel Teichmann (033844 754044) Di\, 14. Ap
 ril Di\, 28. April Di\, 12. Mai Di\, 26. Mai Di\, 9. Juni Di\, 23. Juni Di
 \, 7. Juli Di\, 21. Juli &amp;nbsp\; 14-tägig dienstags &amp;nbsp\; 19.30 Uhr &amp;nb
 sp\; &amp;nbsp\; Ort: auf Anfrage bei Frau Teichmann &amp;nbsp\; &amp;nbsp\;
CATEGORIES:General
URL;VALUE=URI:https://kirche-brueck.de/mc-events/hauskreis-34/?mc_id=429
METHOD:PUBLISH
END:VEVENT
END:VCALENDAR