BEGIN:VCALENDAR
VERSION:2.0
PRODID:spatie/icalendar-generator
DESCRIPTION:Veranstaltungen von Evangelische Kirche Brück
X-WR-CALDESC:Veranstaltungen von Evangelische Kirche Brück
REFRESH-INTERVAL;VALUE=DURATION:PT1440M
X-PUBLISHED-TTL:PT1440M
BEGIN:VTIMEZONE
TZID:Europe/Berlin
BEGIN:STANDARD
DTSTART:20251026T030000Z
TZOFFSETFROM:+0200
TZOFFSETTO:+0100
END:STANDARD
BEGIN:DAYLIGHT
DTSTART:20260329T020000Z
TZOFFSETFROM:+0100
TZOFFSETTO:+0200
END:DAYLIGHT
END:VTIMEZONE
BEGIN:VTIMEZONE
TZID:UTC
BEGIN:STANDARD
DTSTART:20250725T085826Z
TZOFFSETFROM:+0000
TZOFFSETTO:+0000
END:STANDARD
END:VTIMEZONE
BEGIN:VEVENT
UID:376-362
DTSTAMP:20260421T085826Z
SUMMARY:KidsTreff
LOCATION:Rottstock
ORGANIZER;CN=Ines Jäger:MAILTO:ines.jaeger@gemeinsam.ekbo.de
DTSTART;TZID=Europe/Berlin:20260310T153000
DTEND;TZID=Europe/Berlin:20260310T170000
X-ALT-DESC;FMTTYPE=TEXT/HTML:Dienstag\, 10.03. Kidstreff Kidstreff Spiel un
 d Spaß für Grundschulkinder 15:30 – 17:00 Uhr Rottstock\, Gemeinderaum
  Pfn. Ines Jäger (0155 66 312 431)
CATEGORIES:General
URL;VALUE=URI:https://kirche-brueck.de/mc-events/kidstreff-6/
METHOD:PUBLISH
END:VEVENT
END:VCALENDAR