BEGIN:VCALENDAR
VERSION:2.0
PRODID:spatie/icalendar-generator
DESCRIPTION:Veranstaltungen von Evangelische Kirche Brück
X-WR-CALDESC:Veranstaltungen von Evangelische Kirche Brück
REFRESH-INTERVAL;VALUE=DURATION:PT1440M
X-PUBLISHED-TTL:PT1440M
BEGIN:VTIMEZONE
TZID:Europe/Berlin
BEGIN:STANDARD
DTSTART:20231029T030000Z
TZOFFSETFROM:+0200
TZOFFSETTO:+0100
END:STANDARD
BEGIN:DAYLIGHT
DTSTART:20240331T020000Z
TZOFFSETFROM:+0100
TZOFFSETTO:+0200
END:DAYLIGHT
BEGIN:STANDARD
DTSTART:20241027T030000Z
TZOFFSETFROM:+0200
TZOFFSETTO:+0100
END:STANDARD
END:VTIMEZONE
BEGIN:VTIMEZONE
TZID:UTC
BEGIN:STANDARD
DTSTART:20250726T192553Z
TZOFFSETFROM:+0000
TZOFFSETTO:+0000
END:STANDARD
END:VTIMEZONE
BEGIN:VEVENT
UID:19-19
DTSTAMP:20260422T192553Z
SUMMARY:KiKEx
LOCATION:Winterkirche Gemeindehaus Str. des Friedens 35   Brück(Mark)  148
 22
ORGANIZER;CN=Ines Jäger:MAILTO:ines.jaeger@gemeinsam.ekbo.de
DTSTART;TZID=Europe/Berlin:20240504T100000
DTEND;TZID=Europe/Berlin:20240504T140000
X-ALT-DESC;FMTTYPE=TEXT/HTML:Schüler un Schülerinnen haben die Gelegenhei
 t zur Erkundung von Kirchen.
CATEGORIES:General
URL;VALUE=URI:https://kirche-brueck.de/mc-events/kikex/
METHOD:PUBLISH
END:VEVENT
END:VCALENDAR