BEGIN:VCALENDAR
VERSION:2.0
PRODID:spatie/icalendar-generator
DESCRIPTION:Veranstaltungen von Evangelische Kirche Brück
X-WR-CALDESC:Veranstaltungen von Evangelische Kirche Brück
REFRESH-INTERVAL;VALUE=DURATION:PT1440M
X-PUBLISHED-TTL:PT1440M
BEGIN:VTIMEZONE
TZID:Europe/Berlin
BEGIN:STANDARD
DTSTART:20251026T030000Z
TZOFFSETFROM:+0200
TZOFFSETTO:+0100
END:STANDARD
BEGIN:DAYLIGHT
DTSTART:20260329T020000Z
TZOFFSETFROM:+0100
TZOFFSETTO:+0200
END:DAYLIGHT
BEGIN:STANDARD
DTSTART:20261025T030000Z
TZOFFSETFROM:+0200
TZOFFSETTO:+0100
END:STANDARD
END:VTIMEZONE
BEGIN:VTIMEZONE
TZID:UTC
BEGIN:STANDARD
DTSTART:20250725T122553Z
TZOFFSETFROM:+0000
TZOFFSETTO:+0000
END:STANDARD
END:VTIMEZONE
BEGIN:VEVENT
UID:481-392
DTSTAMP:20260421T122553Z
SUMMARY:Teestube
LOCATION:Ev. Gemeindehaus Rottstock &amp;amp\; Pfarrgarten Straße der Einheit 
 32
ORGANIZER;CN=Ines Jäger:MAILTO:ines.jaeger@gemeinsam.ekbo.de
RRULE:FREQ=MONTHLY;BYDAY=4FR;UNTIL=20260627T000000Z
DTSTART;TZID=Europe/Berlin:20260424T183000
DTEND;TZID=Europe/Berlin:20260424T193000
X-ALT-DESC;FMTTYPE=TEXT/HTML:Teestube Lockerer Gesprächskreis für Mensche
 n mitten im Leben &amp;nbsp\; Kontakt: Ines Jäger (0155 66 312 341) Fr\, 24. 
 April Fr\, 22. Mai Fr. 26. Juni &amp;nbsp\; &amp;nbsp\; Jeden 4. Freitag im Monat\
 , 18.30 Uhr &amp;nbsp\; &amp;nbsp\; mit anschließenden Hausabendmahl. Ausflüge a
 uf Gemeindekosten optional. &amp;nbsp\; Ort: Gemeinderaum Rottstock &amp;nbsp\; &amp;n
 bsp\;
CATEGORIES:General
URL;VALUE=URI:https://kirche-brueck.de/mc-events/teestube/?mc_id=481
METHOD:PUBLISH
END:VEVENT
END:VCALENDAR