BEGIN:VCALENDAR
VERSION:2.0
PRODID:spatie/icalendar-generator
DESCRIPTION:Veranstaltungen von Evangelische Kirche Brück
X-WR-CALDESC:Veranstaltungen von Evangelische Kirche Brück
REFRESH-INTERVAL;VALUE=DURATION:PT1440M
X-PUBLISHED-TTL:PT1440M
BEGIN:VTIMEZONE
TZID:Europe/Berlin
BEGIN:STANDARD
DTSTART:20251026T030000Z
TZOFFSETFROM:+0200
TZOFFSETTO:+0100
END:STANDARD
BEGIN:DAYLIGHT
DTSTART:20260329T020000Z
TZOFFSETFROM:+0100
TZOFFSETTO:+0200
END:DAYLIGHT
BEGIN:STANDARD
DTSTART:20261025T030000Z
TZOFFSETFROM:+0200
TZOFFSETTO:+0100
END:STANDARD
END:VTIMEZONE
BEGIN:VTIMEZONE
TZID:UTC
BEGIN:STANDARD
DTSTART:20250725T113640Z
TZOFFSETFROM:+0000
TZOFFSETTO:+0000
END:STANDARD
END:VTIMEZONE
BEGIN:VEVENT
UID:424-385
DTSTAMP:20260421T113640Z
SUMMARY:KidsTreff
LOCATION:Rottstock
ORGANIZER;CN=Ines Jäger:MAILTO:ines.jaeger@gemeinsam.ekbo.de
RRULE:FREQ=MONTHLY;BYDAY=4TU;UNTIL=20260624T000000Z
DTSTART;TZID=Europe/Berlin:20260428T153000
DTEND;TZID=Europe/Berlin:20260428T170000
X-ALT-DESC;FMTTYPE=TEXT/HTML:KidsTreff Bibelgeschichten\, Spieß &amp;amp\; Spa
 ß für Grundschüler:innen &amp;nbsp\; &amp;nbsp\; Ines Jäger: (0155 66 312 341)
  &amp;nbsp\; (WhatsApp-Gruppe für Eltern vorhanden\, bitte bei Ines Jäger me
 lden) &amp;nbsp\; Di\, 14. April Di\, 28. April Di\, 12. Mai Di\, 26. Mai Di\,
  9. Juni Di\, 23. Juni &amp;nbsp\; &amp;nbsp\; Jeden 2. Und 4. Dienstag im Monat &amp;
 nbsp\; 15.30&amp;hellip\;
CATEGORIES:General
URL;VALUE=URI:https://kirche-brueck.de/mc-events/kidstreff-9/?mc_id=424
METHOD:PUBLISH
END:VEVENT
END:VCALENDAR