BEGIN:VCALENDAR
VERSION:2.0
PRODID:spatie/icalendar-generator
DESCRIPTION:Veranstaltungen von Evangelische Kirche Brück
X-WR-CALDESC:Veranstaltungen von Evangelische Kirche Brück
REFRESH-INTERVAL;VALUE=DURATION:PT1440M
X-PUBLISHED-TTL:PT1440M
BEGIN:VTIMEZONE
TZID:Europe/Berlin
BEGIN:STANDARD
DTSTART:20251026T030000Z
TZOFFSETFROM:+0200
TZOFFSETTO:+0100
END:STANDARD
BEGIN:DAYLIGHT
DTSTART:20260329T020000Z
TZOFFSETFROM:+0100
TZOFFSETTO:+0200
END:DAYLIGHT
BEGIN:STANDARD
DTSTART:20261025T030000Z
TZOFFSETFROM:+0200
TZOFFSETTO:+0100
END:STANDARD
END:VTIMEZONE
BEGIN:VTIMEZONE
TZID:UTC
BEGIN:STANDARD
DTSTART:20250725T113024Z
TZOFFSETFROM:+0000
TZOFFSETTO:+0000
END:STANDARD
END:VTIMEZONE
BEGIN:VEVENT
UID:410-384
DTSTAMP:20260421T113024Z
SUMMARY:Gospelchor Brück
LOCATION:Brück(Mark) Str. des Friedens 35  Brück  14822
ORGANIZER;CN=Ines Jäger:MAILTO:ines.jaeger@gemeinsam.ekbo.de
RRULE:FREQ=WEEKLY;UNTIL=20260709T000000Z
DTSTART;TZID=Europe/Berlin:20260427T183000
DTEND;TZID=Europe/Berlin:20260427T203000
X-ALT-DESC;FMTTYPE=TEXT/HTML:Gospelchor Brück Freche\, frische Melodien in
  einem netten Stimm-Team &amp;nbsp\; Kontakt: Simon Bowen (0160 989 3362) www.
 bruecker-gospelchor.de &amp;nbsp\; Jeden Montag bis zur Ferienzeit   Jeden Mo
 ntag\, 18.30-20.30 Uhr &amp;nbsp\; Ort: Aula Campus Brück
CATEGORIES:General
URL;VALUE=URI:https://kirche-brueck.de/mc-events/gospelchor-brueck-2/?mc_id
 =410
METHOD:PUBLISH
END:VEVENT
END:VCALENDAR