BEGIN:VCALENDAR
VERSION:2.0
PRODID:spatie/icalendar-generator
DESCRIPTION:Veranstaltungen von Evangelische Kirche Brück
X-WR-CALDESC:Veranstaltungen von Evangelische Kirche Brück
REFRESH-INTERVAL;VALUE=DURATION:PT1440M
X-PUBLISHED-TTL:PT1440M
BEGIN:VTIMEZONE
TZID:Europe/Berlin
BEGIN:DAYLIGHT
DTSTART:20250330T020000Z
TZOFFSETFROM:+0100
TZOFFSETTO:+0200
END:DAYLIGHT
BEGIN:STANDARD
DTSTART:20251026T030000Z
TZOFFSETFROM:+0200
TZOFFSETTO:+0100
END:STANDARD
BEGIN:DAYLIGHT
DTSTART:20260329T020000Z
TZOFFSETFROM:+0100
TZOFFSETTO:+0200
END:DAYLIGHT
END:VTIMEZONE
BEGIN:VTIMEZONE
TZID:UTC
BEGIN:STANDARD
DTSTART:20250725T090800Z
TZOFFSETFROM:+0000
TZOFFSETTO:+0000
END:STANDARD
END:VTIMEZONE
BEGIN:VEVENT
UID:268-259
DTSTAMP:20260421T090800Z
SUMMARY:Erntedank Gottesdienst
LOCATION:Lambertuskirche Brück   Brück Brandenburg 14822
ORGANIZER;CN=Ines Jäger:MAILTO:ines.jaeger@gemeinsam.ekbo.de
DTSTART;TZID=Europe/Berlin:20251005T103000
DTEND;TZID=Europe/Berlin:20251005T113000
X-ALT-DESC;FMTTYPE=TEXT/HTML:5. Oktober &amp;nbsp\; &amp;nbsp\; &amp;nbsp\; Erntedank 1
 0.30 Uhr &amp;nbsp\; Kirche Brück &amp;nbsp\;
CATEGORIES:General
URL;VALUE=URI:https://kirche-brueck.de/mc-events/erntedank-gottesdienst-2/
METHOD:PUBLISH
END:VEVENT
END:VCALENDAR