BEGIN:VCALENDAR
VERSION:2.0
PRODID:spatie/icalendar-generator
DESCRIPTION:Veranstaltungen von Evangelische Kirche Brück
X-WR-CALDESC:Veranstaltungen von Evangelische Kirche Brück
REFRESH-INTERVAL;VALUE=DURATION:PT1440M
X-PUBLISHED-TTL:PT1440M
BEGIN:VTIMEZONE
TZID:Europe/Berlin
BEGIN:STANDARD
DTSTART:20231029T030000Z
TZOFFSETFROM:+0200
TZOFFSETTO:+0100
END:STANDARD
BEGIN:DAYLIGHT
DTSTART:20240331T020000Z
TZOFFSETFROM:+0100
TZOFFSETTO:+0200
END:DAYLIGHT
BEGIN:STANDARD
DTSTART:20241027T030000Z
TZOFFSETFROM:+0200
TZOFFSETTO:+0100
END:STANDARD
END:VTIMEZONE
BEGIN:VTIMEZONE
TZID:UTC
BEGIN:STANDARD
DTSTART:20250726T225737Z
TZOFFSETFROM:+0000
TZOFFSETTO:+0000
END:STANDARD
END:VTIMEZONE
BEGIN:VEVENT
UID:20-20
DTSTAMP:20260422T225737Z
SUMMARY:Posaunisten-Abend in Rottstock
LOCATION:Ev. Gemeindehaus Rottstock &amp;amp\; Pfarrgarten Straße der Einheit 
 32
ORGANIZER;CN=Ines Jäger:MAILTO:ines.jaeger@gemeinsam.ekbo.de
DTSTART;TZID=Europe/Berlin:20240524T180000
DTEND;TZID=Europe/Berlin:20240524T190000
X-ALT-DESC;FMTTYPE=TEXT/HTML:Freut euch auf Schwung und Klang mit Posaunist
 en aus Mörz &amp;amp\; Rottstock Essen zum mitbrungen Eintritt frei - für gr
 oß &amp;amp\; klein Spenden willkommen
CATEGORIES:General
URL;VALUE=URI:https://kirche-brueck.de/mc-events/posaunisten-abend-in-rotts
 tock/
METHOD:PUBLISH
END:VEVENT
END:VCALENDAR